BEGIN:VCALENDAR
VERSION:2.0
PRODID:-//New Mexico Museum of Space History - ECPv6.15.14//NONSGML v1.0//EN
CALSCALE:GREGORIAN
METHOD:PUBLISH
X-WR-CALNAME:New Mexico Museum of Space History
X-ORIGINAL-URL:https://nmspacemuseum.org
X-WR-CALDESC:Events for New Mexico Museum of Space History
REFRESH-INTERVAL;VALUE=DURATION:PT1H
X-Robots-Tag:noindex
X-PUBLISHED-TTL:PT1H
BEGIN:VTIMEZONE
TZID:UTC
BEGIN:STANDARD
TZOFFSETFROM:+0000
TZOFFSETTO:+0000
TZNAME:UTC
DTSTART:20230101T000000
END:STANDARD
END:VTIMEZONE
BEGIN:VEVENT
DTSTART;TZID=UTC:20240511T200000
DTEND;TZID=UTC:20240511T220000
DTSTAMP:20260425T125926
CREATED:20240430T144257Z
LAST-MODIFIED:20240430T145828Z
UID:21579-1715457600-1715464800@nmspacemuseum.org
SUMMARY:Museum of Space History’s Astronomy League Star Party 
DESCRIPTION:Museum of Space History’s Astronomy League Star Party\nLocation: Museum Observatory Complex\, Upper Parking Lot\n8:00 PM – 10:00 PM\nNew Mexico Museum of Space History’s Astronomy League Star Party — This is a public star party supported by the Museum of Space History’s Astronomy League and Museum Educators.  Along with the normal array of telescopes\, there will be big screen live viewing of astronomic objects as well as the usual visual observing.  This event is free to the public and will be held at the museum’s observatory complex.  For more information\, email msh.info@dca.nm.gov or visit our website at www.nmspacemuseum.org
URL:https://nmspacemuseum.org/event/museum-of-space-historys-astronomy-league-star-party/
LOCATION:New Mexico Museum of Space History\, 3198 State Rd. 2001\, Alamogordo\, NM\, 88310\, United States
CATEGORIES:Monthly Events,Nighttime Events
ATTACH;FMTTYPE=image/jpeg:https://nmspacemuseum.org/wp-content/uploads/2023/11/FB_Event_Astronomy-League-Star-Party-1.jpg
ORGANIZER;CN="NM Museum of Space History":MAILTO:msh.info@state.nm.us
END:VEVENT
END:VCALENDAR