BEGIN:VCALENDAR
VERSION:2.0
PRODID:-//New Mexico Museum of Space History - ECPv6.15.14//NONSGML v1.0//EN
CALSCALE:GREGORIAN
METHOD:PUBLISH
X-ORIGINAL-URL:https://nmspacemuseum.org
X-WR-CALDESC:Events for New Mexico Museum of Space History
REFRESH-INTERVAL;VALUE=DURATION:PT1H
X-Robots-Tag:noindex
X-PUBLISHED-TTL:PT1H
BEGIN:VTIMEZONE
TZID:UTC
BEGIN:STANDARD
TZOFFSETFROM:+0000
TZOFFSETTO:+0000
TZNAME:UTC
DTSTART:20240101T000000
END:STANDARD
END:VTIMEZONE
BEGIN:VEVENT
DTSTART;TZID=UTC:20250704T090000
DTEND;TZID=UTC:20250704T100000
DTSTAMP:20260420T150400
CREATED:20250519T195223Z
LAST-MODIFIED:20250519T201129Z
UID:22620-1751619600-1751623200@nmspacemuseum.org
SUMMARY:July 4th Launch Pad Lecture is canceled
DESCRIPTION:July 4th Launch Pad Lecture is canceled. Lauch Pad Lectures will resume August 7\, 2025.
URL:https://nmspacemuseum.org/event/july-4th-launch-pad-lecture-is-canceled/
LOCATION:Clyde W. Tombaugh Education Center\, 3198 State Route 2001\, Alamogordo\, NM\, 88310\, United States
CATEGORIES:Monthly Events
ATTACH;FMTTYPE=image/jpeg:https://nmspacemuseum.org/wp-content/uploads/2025/05/FB_Event_Launchpad-Lecture_canceled.jpg
ORGANIZER;CN="NM Museum of Space History":MAILTO:msh.info@state.nm.us
END:VEVENT
BEGIN:VEVENT
DTSTART;TZID=UTC:20250710T100000
DTEND;TZID=UTC:20250710T170000
DTSTAMP:20260420T150400
CREATED:20250612T143512Z
LAST-MODIFIED:20250612T193005Z
UID:22652-1752141600-1752166800@nmspacemuseum.org
SUMMARY:Ancient Skies Meet Modern Eyes in a World Built by the Stars
DESCRIPTION:Prepare to be captivated by the mysteries of the cosmos and the wisdom of ancient sky watchers at Ancient Skies\, Modern Eyes—an enlightening\, all-day free public event that explores how humanity has long turned to the stars for meaning\, guidance\, and inspiration. \nTaking place on Thursday\, July 10\, 2025\, from 10:00 AM to 5:00 PM at the New Horizons Dome Theater of the NM Museum of Space History in Alamogordo\, this immersive experience is co-hosted by the Jornada Research Institute. Throughout the day\, a dynamic lineup of renowned speakers will delve into the astronomical importance of petroglyphs\, solar calendars\, eclipses\, and ceremonial sites. \nAttendees can explore Richard Friedman’s working model of the Sun Dagger\, an ancient solar calendar from Chaco Canyon\, and experience Daniel Brown’s “Writing Skyscapes\,” a poetic and visual exhibition that invites audiences to reflect on the sky as both muse and message. \nFeatured Speakers: \n\n10:15 AM – 12:00 PM – Joan Price\, Jornada Research\, will present on the “Great Jaguar” Stone at the Three Rivers Petroglyph Site.\n12:15 – 1:30 PM – Anna Sofaer\, Founder of the Solstice Project\, will present and then discuss her film The Mystery of Chaco Canyon: Unveiling The Ancient Astronomy.\n2:00 – 3:30 PM – Dr. Cherilynn Morrow\, NASA\, will present on the Rock of the Sun\, a possible recording of the 1097 full eclipse that occurred at Chaco Canyon\n4:00 – 5:00 PM – David Greenwald\, Director of Jornada Research Institute\, will discuss how the great kiva at Creekside Village in Tularosa Canyon was used as an astronomical observatory.\n\nPlease note: The regularly scheduled Giant Screen Films or live star shows will not take place during the event.
URL:https://nmspacemuseum.org/event/ancient-skies-meet-modern-eyes-in-a-world-built-by-the-stars/
LOCATION:Clyde W. Tombaugh Education Center\, 3198 State Route 2001\, Alamogordo\, NM\, 88310\, United States
CATEGORIES:Special Events
ATTACH;FMTTYPE=image/jpeg:https://nmspacemuseum.org/wp-content/uploads/2025/06/FB_Event_Ancient-Skies-Modern-Eyes.jpg
ORGANIZER;CN="NM Museum of Space History":MAILTO:msh.info@state.nm.us
END:VEVENT
BEGIN:VEVENT
DTSTART;TZID=UTC:20250725T130000
DTEND;TZID=UTC:20250725T160000
DTSTAMP:20260420T150400
CREATED:20250711T164913Z
LAST-MODIFIED:20250716T224043Z
UID:22691-1753448400-1753459200@nmspacemuseum.org
SUMMARY:New Mexico Museum of Space History Governor’s Commission Meeting
DESCRIPTION:New Mexico Museum of Space History Governor’s Commission Meeting\nDate: Friday\, July 25\, 2025\nTime: 1:00 PM MDT \nLocation: New Mexico Museum of Space History\nClyde Tombaugh Dome Theater & Planetarium – Front Classroom\n3198 State Road 2001\, Alamogordo\, NM 88310 \nThe Mission of the New Mexico Museum of Space History Commission is to provide direction\, advice\, and support to the Director of of the Museum in the maintenance and operation of the Museum and its activities. \nAGENDA \n\n  \n20250725 Commission Meeting Public Notice
URL:https://nmspacemuseum.org/event/new-mexico-museum-of-space-history-governors-commission-meeting-5/
LOCATION:Clyde W. Tombaugh Education Center\, 3198 State Route 2001\, Alamogordo\, NM\, 88310\, United States
CATEGORIES:Quarterly Meeting
ATTACH;FMTTYPE=image/jpeg:https://nmspacemuseum.org/wp-content/uploads/2023/11/FB_Event_Governors-Commission-Mtg.jpg
ORGANIZER;CN="NM Museum of Space History":MAILTO:msh.info@state.nm.us
END:VEVENT
END:VCALENDAR