BEGIN:VCALENDAR
VERSION:2.0
PRODID:-//New Mexico Museum of Space History - ECPv6.15.14//NONSGML v1.0//EN
CALSCALE:GREGORIAN
METHOD:PUBLISH
X-WR-CALNAME:New Mexico Museum of Space History
X-ORIGINAL-URL:https://nmspacemuseum.org
X-WR-CALDESC:Events for New Mexico Museum of Space History
REFRESH-INTERVAL;VALUE=DURATION:PT1H
X-Robots-Tag:noindex
X-PUBLISHED-TTL:PT1H
BEGIN:VTIMEZONE
TZID:UTC
BEGIN:STANDARD
TZOFFSETFROM:+0000
TZOFFSETTO:+0000
TZNAME:UTC
DTSTART:20230101T000000
END:STANDARD
END:VTIMEZONE
BEGIN:VEVENT
DTSTART;TZID=UTC:20240906T090000
DTEND;TZID=UTC:20240906T100000
DTSTAMP:20260425T142446
CREATED:20240813T205639Z
LAST-MODIFIED:20240813T205755Z
UID:21782-1725613200-1725616800@nmspacemuseum.org
SUMMARY:Museum of Space History Launch Pad Lecture: History of the V-2
DESCRIPTION:Museum of Space History Launch Pad Lecture\nLocation: New Horizons Dome Theater and Planetarium\n9:00 AM – 10:00 AM\nTopic:  History of the V-2\nSpeaker:  Museum Education Director Mike Shinabery \nThe Launch Pad Lecture Series is held on the first Friday of each month in the New Horizons Dome Theater and Planetarium in the Clyde W. Tombaugh Education Center. Museum staff\, and sometimes special guest speakers\, discuss topics ranging from space history to space future.  Free to the public. Coffee and donuts provided. For more information\, email msh.info@dca.nm.gov or visit our website at www.nmspacemuseum.org
URL:https://nmspacemuseum.org/event/museum-of-space-history-launch-pad-lecture-history-of-the-v-2/
LOCATION:New Mexico Museum of Space History\, 3198 State Rd. 2001\, Alamogordo\, NM\, 88310\, United States
CATEGORIES:Monthly Events
ATTACH;FMTTYPE=image/jpeg:https://nmspacemuseum.org/wp-content/uploads/2024/01/FB_Event_Launchpad-Lecture_new-location.jpg
ORGANIZER;CN="NM Museum of Space History":MAILTO:msh.info@state.nm.us
END:VEVENT
END:VCALENDAR