BEGIN:VCALENDAR
VERSION:2.0
PRODID:-//New Mexico Museum of Space History - ECPv6.15.14//NONSGML v1.0//EN
CALSCALE:GREGORIAN
METHOD:PUBLISH
X-ORIGINAL-URL:https://nmspacemuseum.org
X-WR-CALDESC:Events for New Mexico Museum of Space History
REFRESH-INTERVAL;VALUE=DURATION:PT1H
X-Robots-Tag:noindex
X-PUBLISHED-TTL:PT1H
BEGIN:VTIMEZONE
TZID:UTC
BEGIN:STANDARD
TZOFFSETFROM:+0000
TZOFFSETTO:+0000
TZNAME:UTC
DTSTART:20230101T000000
END:STANDARD
END:VTIMEZONE
BEGIN:VEVENT
DTSTART;TZID=UTC:20240914T193000
DTEND;TZID=UTC:20240914T213000
DTSTAMP:20260422T105832
CREATED:20240813T213736Z
LAST-MODIFIED:20240913T171924Z
UID:21792-1726342200-1726349400@nmspacemuseum.org
SUMMARY:Museum of Space History’s Astronomy League Star Party:  The Gorgon's Offspring
DESCRIPTION:Museum of Space History’s Astronomy League Star PartyLocation: NMMSH Outdoor Observatory\, Upper Parking Lot7:30 PM – 9:30 PMTheme:  The Gorgon’s Offspring \nJoin museum staff as they recount the stories of Pegasus\, Perseus\, Andromeda\, and Cassiopeia. Pegasus has been portrayed as a horse by many cultures\, find out the backstory behind the famous winged horse in the sky. Meanwhile\, the NMMHS Astronomy League will be telescoping objects in the sky such as Saturn\, the moon\, and of course\, the Andromeda Galaxy. Event begins at 7:30 in the New Mexico Museum of Space History outdoor observatory. In case of poor visibility\, activities will be moved to the Tombaugh Dome and Planetarium. \nFor more information\, email msh.info@dca.nm.gov or visit our website at www.nmspacemuseum.org
URL:https://nmspacemuseum.org/event/museum-of-space-historys-astronomy-league-star-party-3/
LOCATION:New Mexico Museum of Space History\, 3198 State Rd. 2001\, Alamogordo\, NM\, 88310\, United States
CATEGORIES:Nighttime Events
ATTACH;FMTTYPE=image/jpeg:https://nmspacemuseum.org/wp-content/uploads/2023/11/FB_Event_Astronomy-League-Star-Party-1.jpg
ORGANIZER;CN="NM Museum of Space History":MAILTO:msh.info@state.nm.us
END:VEVENT
END:VCALENDAR