BEGIN:VCALENDAR
VERSION:2.0
PRODID:-//New Mexico Museum of Space History - ECPv6.15.14//NONSGML v1.0//EN
CALSCALE:GREGORIAN
METHOD:PUBLISH
X-WR-CALNAME:New Mexico Museum of Space History
X-ORIGINAL-URL:https://nmspacemuseum.org
X-WR-CALDESC:Events for New Mexico Museum of Space History
REFRESH-INTERVAL;VALUE=DURATION:PT1H
X-Robots-Tag:noindex
X-PUBLISHED-TTL:PT1H
BEGIN:VTIMEZONE
TZID:America/Denver
BEGIN:DAYLIGHT
TZOFFSETFROM:-0700
TZOFFSETTO:-0600
TZNAME:MDT
DTSTART:20250309T090000
END:DAYLIGHT
BEGIN:STANDARD
TZOFFSETFROM:-0600
TZOFFSETTO:-0700
TZNAME:MST
DTSTART:20251102T080000
END:STANDARD
BEGIN:DAYLIGHT
TZOFFSETFROM:-0700
TZOFFSETTO:-0600
TZNAME:MDT
DTSTART:20260308T090000
END:DAYLIGHT
BEGIN:STANDARD
TZOFFSETFROM:-0600
TZOFFSETTO:-0700
TZNAME:MST
DTSTART:20261101T080000
END:STANDARD
BEGIN:DAYLIGHT
TZOFFSETFROM:-0700
TZOFFSETTO:-0600
TZNAME:MDT
DTSTART:20270314T090000
END:DAYLIGHT
BEGIN:STANDARD
TZOFFSETFROM:-0600
TZOFFSETTO:-0700
TZNAME:MST
DTSTART:20271107T080000
END:STANDARD
END:VTIMEZONE
BEGIN:VEVENT
DTSTART;TZID=America/Denver:20260227T130000
DTEND;TZID=America/Denver:20260227T160000
DTSTAMP:20260425T230754
CREATED:20260217T224216Z
LAST-MODIFIED:20260219T181319Z
UID:23424-1772197200-1772208000@nmspacemuseum.org
SUMMARY:New Mexico Museum of Space History Governor’s Commission Meeting (Special)
DESCRIPTION:PUBLIC NOTICE\nThe New Mexico Museum of Space History Governor’s Commission will conduct a special meeting on: \nDate:              Friday\, February 27\, 2026 \nTime:             1:00pm PM MST \nLocation:      New Mexico Museum of Space History \nClyde Tombaugh Dome Theater & PlanetariumFront Classroom (First)3198 State Road 2001Alamogordo\, NM  88310 \nThe Mission of the New Mexico Museum of Space History Commission is to provide direction\, advice\, and support to the Director of the Museum in the maintenance and operation of the Museum and its activities. \nA copy of the draft Regular Meeting Agenda shall be available at least seventy-two (72) hours prior to the meeting from the Museum in Alamogordo\, New Mexico\, as well as the Museum’s website (https://nmspacemuseum.org/events/list/)\, and from the Department of Cultural Affairs website (https://www.newmexicoculture.org/about/boards-and-commissions/upcoming-board-meetings) whose office is located at 407 Galisteo\, Suite 260\, in Santa Fe\, New Mexico. \nIf you are an individual with a disability who needs a reader\, amplifier\, qualified sign language interpreter\, or any other form of auxiliary aid or service to attend or participate in the hearing or meeting\, please contact Angie Rathburn at (575) 437-2840 ext. 41107 or angie.rathburn@dca.nm.gov at least one week prior to the meeting or as soon as possible. \nPublic documents\, including the agenda and meeting minutes\, can be provided in various accessible formats.  If a summary or other type of accessible format is needed or for any additional information or assistance\, please direct requests to the contact person above. \n  \n                             \nPowered By EmbedPress
URL:https://nmspacemuseum.org/event/new-mexico-museum-of-space-history-governors-commission-meeting-8/
LOCATION:Clyde W. Tombaugh Education Center\, 3198 State Route 2001\, Alamogordo\, NM\, 88310\, United States
CATEGORIES:Special Events
ATTACH;FMTTYPE=image/jpeg:https://nmspacemuseum.org/wp-content/uploads/2026/02/FB_Event_Governors-Commission-Mtg_special.jpg
ORGANIZER;CN="NM Museum of Space History":MAILTO:msh.info@state.nm.us
END:VEVENT
END:VCALENDAR