BEGIN:VCALENDAR
VERSION:2.0
PRODID:-//New Mexico Museum of Space History - ECPv6.15.14//NONSGML v1.0//EN
CALSCALE:GREGORIAN
METHOD:PUBLISH
X-WR-CALNAME:New Mexico Museum of Space History
X-ORIGINAL-URL:https://nmspacemuseum.org
X-WR-CALDESC:Events for New Mexico Museum of Space History
REFRESH-INTERVAL;VALUE=DURATION:PT1H
X-Robots-Tag:noindex
X-PUBLISHED-TTL:PT1H
BEGIN:VTIMEZONE
TZID:UTC
BEGIN:STANDARD
TZOFFSETFROM:+0000
TZOFFSETTO:+0000
TZNAME:UTC
DTSTART:20230101T000000
END:STANDARD
END:VTIMEZONE
BEGIN:VEVENT
DTSTART;TZID=UTC:20241004T090000
DTEND;TZID=UTC:20241004T100000
DTSTAMP:20260426T013035
CREATED:20240813T211350Z
LAST-MODIFIED:20240925T192802Z
UID:21784-1728032400-1728036000@nmspacemuseum.org
SUMMARY:Museum of Space History Launch Pad Lecture — From Project Y to the Present: Los Alamos at the Intersection of Science and Circumstance
DESCRIPTION:Museum of Space History Launch Pad Lecture\nLocation: New Horizons Dome Theater and Planetarium\n9:00 AM – 10:00 AM\nTopic:  From Project Y to the Present: Los Alamos at the Intersection of Science and Circumstance\nGuest Speaker:  Patrick Moore\, Executive Director of Los Alamos National Laboratory’s Bradbury Science Museum   \nPatrick Moore\, Executive Director of Los Alamos National Laboratory’s Bradbury Science Museum\, will present From Project Y to the Present: Los Alamos at the Intersection of Science and Circumstance that expands on the history of Robert Oppenheimer and the Manhattan Project and highlights how the remarkable events behind the Trinity test near Alamogordo resulted in the creation of one of the nation’s premier global security and scientific research laboratories. \nThe Launch Pad Lecture Series is held on the first Friday of each month in the New Horizons Dome Theater and Planetarium in the Clyde W. Tombaugh Education Center. Museum staff\, and sometimes special guest speakers\, discuss topics ranging from space history to space future.  Free to the public. Coffee and donuts provided. For more information\, email msh.info@dca.nm.gov or visit our website at www.nmspacemuseum.org
URL:https://nmspacemuseum.org/event/museum-of-space-history-launch-pad-lecture-5/
LOCATION:New Mexico Museum of Space History\, 3198 State Rd. 2001\, Alamogordo\, NM\, 88310\, United States
CATEGORIES:Monthly Events
ATTACH;FMTTYPE=image/jpeg:https://nmspacemuseum.org/wp-content/uploads/2024/01/FB_Event_Launchpad-Lecture_new-location.jpg
ORGANIZER;CN="NM Museum of Space History":MAILTO:msh.info@state.nm.us
END:VEVENT
BEGIN:VEVENT
DTSTART;TZID=UTC:20241010T190000
DTEND;TZID=UTC:20241010T200000
DTSTAMP:20260426T013035
CREATED:20240807T144001Z
LAST-MODIFIED:20240807T144001Z
UID:21731-1728586800-1728590400@nmspacemuseum.org
SUMMARY:Museum of Space History’s Astronomy League Monthly Meeting
DESCRIPTION:Museum of Space History’s Astronomy League Monthly Meeting\nLocation: Clyde W. Tombaugh Education Center\n7:00 PM – 8:00 PM   \nMuseum of Space History’s Astronomy League Monthly Meeting – The Astronomy League meeting is held on the second Thursday of each month in the Clyde W. Tombaugh Education Center and is free to attend.  Museum staff and sometimes special guest speakers discuss topics ranging from public observing to off-site adventures.  For more information\, email msh.info@dca.nm.gov or visit our website at www.nmspacemuseum.org
URL:https://nmspacemuseum.org/event/museum-of-space-historys-astronomy-league-monthly-meeting-6/
LOCATION:New Mexico Museum of Space History\, 3198 State Rd. 2001\, Alamogordo\, NM\, 88310\, United States
CATEGORIES:Monthly Events
ATTACH;FMTTYPE=image/jpeg:https://nmspacemuseum.org/wp-content/uploads/2023/10/FB_Event_Astronomy-League-Meeting.jpg
ORGANIZER;CN="NM Museum of Space History":MAILTO:msh.info@state.nm.us
END:VEVENT
BEGIN:VEVENT
DTSTART;TZID=UTC:20241019T060000
DTEND;TZID=UTC:20241019T153000
DTSTAMP:20260426T013035
CREATED:20240813T221348Z
LAST-MODIFIED:20240813T222005Z
UID:21800-1729317600-1729351800@nmspacemuseum.org
SUMMARY:Trinity Site Motor Coach Tour
DESCRIPTION:Saturday\, October 19\, 2024\n6:00 AM – 3:30 PM \nTrinity Site Motor Coach Tour — Limited advance tickets are on sale now through the museum’s foundation and include the round trip to Trinity Site\, guided tour\, brownbag lunch\, guided tour of the museum\, and more. To reserve your tickets or for more information\, call 575-437-2840 or visit nmspacemuseum.org.
URL:https://nmspacemuseum.org/event/trinity-site-motor-coach-tour/
LOCATION:New Mexico Museum of Space History\, 3198 State Rd. 2001\, Alamogordo\, NM\, 88310\, United States
CATEGORIES:Tours
ATTACH;FMTTYPE=image/jpeg:https://nmspacemuseum.org/wp-content/uploads/2024/08/FB_Event_Trinity-Tour_Generic-min-1.jpg
END:VEVENT
END:VCALENDAR