BEGIN:VCALENDAR
VERSION:2.0
PRODID:-//New Mexico Museum of Space History - ECPv6.15.14//NONSGML v1.0//EN
CALSCALE:GREGORIAN
METHOD:PUBLISH
X-WR-CALNAME:New Mexico Museum of Space History
X-ORIGINAL-URL:https://nmspacemuseum.org
X-WR-CALDESC:Events for New Mexico Museum of Space History
REFRESH-INTERVAL;VALUE=DURATION:PT1H
X-Robots-Tag:noindex
X-PUBLISHED-TTL:PT1H
BEGIN:VTIMEZONE
TZID:UTC
BEGIN:STANDARD
TZOFFSETFROM:+0000
TZOFFSETTO:+0000
TZNAME:UTC
DTSTART:20250101T000000
END:STANDARD
END:VTIMEZONE
BEGIN:VEVENT
DTSTART;TZID=UTC:20260419T120000
DTEND;TZID=UTC:20260419T140000
DTSTAMP:20260421T060904
CREATED:20260401T211525Z
LAST-MODIFIED:20260401T211525Z
UID:23738-1776600000-1776607200@nmspacemuseum.org
SUMMARY:"Kites & Tails" event is landing at the New Mexico Museum of Space History
DESCRIPTION:New Mexico Museum of Space History’s “Kites & Tails” Event\nLocation:  3198 State Route 2001\, Alamogordo\, NM 88310\nDate:  Sunday\, April 19\, 2026\nTime:  12:00 PM – 2:00 PM\n \nKites & Tails at the New Mexico Museum of Space History brings together hands-on kite building and flying activities with adoptable cats from Kitty City NM on Sunday\, April 19\, 2026\, from 12 p.m. to 2 p.m. at 3198 State Route 2001\, Alamogordo\, NM 88310. For more information\, visit NMSpaceMuseum.org\, follow @NMSpaceMuseum on Facebook and Instagram\, or call (575) 437-2840.
URL:https://nmspacemuseum.org/event/kites-and-tails-2026/
LOCATION:New Mexico Museum of Space History\, 3198 State Rd. 2001\, Alamogordo\, NM\, 88310\, United States
ATTACH;FMTTYPE=image/jpeg:https://nmspacemuseum.org/wp-content/uploads/2026/04/FB_Event_Kites-n-Tails_generic.jpg
ORGANIZER;CN="NM Museum of Space History":MAILTO:msh.info@state.nm.us
END:VEVENT
BEGIN:VEVENT
DTSTART;TZID=UTC:20260424T090000
DTEND;TZID=UTC:20260424T170000
DTSTAMP:20260421T060904
CREATED:20260414T142921Z
LAST-MODIFIED:20260420T195723Z
UID:23790-1777021200-1777050000@nmspacemuseum.org
SUMMARY:NM Museum of Space History Governor’s Commission to conduct a Strategic Planning Session and Regular Quarterly Meeting
DESCRIPTION:PUBLIC NOTICE\nNEW MEXICO MUSEUM OF SPACE HISTORY GOVERNOR’S COMMISSION\n(Strategic Planning Session and Regular Quarterly Meeting) \nThe New Mexico Museum of Space History Governor’s Commission will conduct a Strategic Planning Session and their Regular Quarterly Meeting as follows on Friday\, April 24\, 2026: \n\nStrategic Planning Session (9:00am – 1:00pm; no formal action will be taken)\nRegular Quarterly Meeting (2:00pm – 5:00pm)\n\nThe NMMSH Governor’s Commission Strategic Planning Session and Regular Quarterly Meeting are open to the public and will be held in person at: \nNew Mexico Museum of Space History\nClyde Tombaugh Dome Theater & Planetarium – Front Classroom (First)\n3198 State Road 2001\, Alamogordo\, NM  88310 \nThe Mission of the New Mexico Museum of Space History Commission is to provide direction\, advice\, and support to the Director of of the Museum in the maintenance and operation of the Museum and its activities. \nA copy of the draft agendas for the Strategic Planning Session and the Regular Quarterly Meeting shall be available at least seventy-two (72) hours prior to the meetings from the Museum in Alamogordo\, New Mexico. Agendas will also be available on the Museum’s website (https://nmspacemuseum.org/events/list/) and the Department of Cultural Affairs website (https://www.newmexicoculture.org/about/boards-and-commissions/upcoming-board-meetings)\, whose office is located at 407 Galisteo\, Suite 260\, in Santa Fe\, New Mexico. \nIf you are an individual with a disability who needs a reader\, amplifier\, qualified sign language interpreter\, or any other form of auxiliary aid or service to attend or participate in the hearing or meeting\, please contact Angie Rathburn at (575) 437-2840 ext. 41107 or angie.rathburn@dca.nm.govat least one week prior to the meeting or as soon as possible. \nPublic documents\, including the agendas and meeting minutes\, can be provided in various accessible formats.  If a summary or other type of accessible format is needed or for any additional information or assistance\, please direct requests to the contact person above. \n\nNEW MEXICO MUSEUM OF SPACE HISTORY GOVERNOR’S COMMISSION \nDRAFT AGENDA (Strategic Planning Session) \nFriday\, April 24\, 2026\n9:00 AM to 1:00 PM MDT  (Strategic Planning Session)\nat The New Mexico Museum of Space History\nFront Classroom (First)\nClyde Tombaugh Dome Theater & Planetarium\n3198 State Road 2001\, Alamogordo NM  88310 \nThe Mission of the New Mexico Museum of Space History (NMMSH) Commission is to establish museum of space history policy and determine the mission and direct the development of the museum subject to the approval of the secretary of cultural affairs and to provide direction\, advice\, and support to the Director of the Museum in the maintenance and operation of the Museum and its activities. \n\nCall to Order – Ms. Norma Chairez-Hartell\, Chair\n\n\nIntroductions – Commission and Guests\n\n\nStrategic Work Session\n\nDiscuss major themes from Framing Phase\nExplore strategic questions identified by Strategic Planning Committee\n\n\n\n\nAdjournment – Commission\n\nExcept for emergency matters\, the Commission cannot take action on new business that is not on the posted agenda. New business requiring action will be added to the agenda for the next meeting of the Commission. \n\nNEW MEXICO MUSEUM OF SPACE HISTORY GOVERNOR’S COMMISSION \nDRAFT AGENDA (Regular Quarterly Meeting) \nFriday\, April 24\, 2026\n2:00 to 5:00 PM MDT  (Regular Quarterly Meeting)\nat The New Mexico Museum of Space History\nFront Classroom (First)\nClyde Tombaugh Dome Theater & Planetarium\n3198 State Road 2001\, Alamogordo NM  88310 \nThe Mission of the New Mexico Museum of Space History (NMMSH) Commission is to establish museum of space history policy and determine the mission and direct the development of the museum subject to the approval of the secretary of cultural affairs and to provide direction\, advice\, and support to the Director of the Museum in the maintenance and operation of the Museum and its activities. \n\nCall to Order – Ms. Norma Chairez-Hartell\, Chair\n\n\nIntroductions – Commission and Guests\n\n\nAction: Approve agenda for the April 24\, 2026 Meeting – Commission\n\n\nAction: Approve minutes from the February 27\, 2026 Special Meeting – Commission \n\n\nDepartment of Cultural Affairs Report – TBD\n\n\nCommission Chair Report – Ms. Norma Chairez-Hartell\n\n\nDivision Director’s Report – Karen Kincaid Brady\n\nReport on Collections – Brianna Buller\nReport on Educational Programs – Michael Shinabery\n\n\n\n\nInternational Space Hall of Fame Foundation Report – Cathy Harper\,\n\n2026 Induction Report\n\n\n\n\nAnnouncements – General call for upcoming activities of interest to the Museum\n\n\nAction: Confirm/Establish Dates and Places of Upcoming Meetings – Commission\n\nFriday July 31\, 2026 (Alamogordo\, NM\, at NMMSH)\nFriday October 30\, 2026 (Santa Fe\, NM)\nFriday\, January 29\, 2027 (Alamogordo\, NM\, at NMMSH)\n\n\n\n\nAdjournment – Commission\n\nExcept for emergency matters\, the Commission cannot take action on new business that is not on the posted agenda. New business requiring action will be added to the agenda for the next meeting of the Commission. \n\nView the PUBLIC NOTICE at the following link: \n2026-04-10 NMMSH Comm Public Notice (04-24-26 SPS & Reg Q Mtg) \nView the DRAFT AGENDA at the following link: \n2026-04-24 NMMSH Gov Comm (DRAFT Agendas for SPS & RQM)
URL:https://nmspacemuseum.org/event/nm-museum-of-space-history-governors-commission-to-conduct-a-strategic-planning-session-and-regular-quarterly-meeting/
LOCATION:New Mexico Museum of Space History\, 3198 State Rd. 2001\, Alamogordo\, NM\, 88310\, United States
CATEGORIES:Quarterly Meeting
ATTACH;FMTTYPE=image/jpeg:https://nmspacemuseum.org/wp-content/uploads/2026/04/FB_Event_Governors-Commission-Mtg.jpg
ORGANIZER;CN="NM Museum of Space History":MAILTO:msh.info@state.nm.us
END:VEVENT
BEGIN:VEVENT
DTSTART;TZID=UTC:20260502T180000
DTEND;TZID=UTC:20260502T210000
DTSTAMP:20260421T060904
CREATED:20260415T194116Z
LAST-MODIFIED:20260415T194116Z
UID:23797-1777744800-1777755600@nmspacemuseum.org
SUMMARY:“The CON at COMIC CON” Murder Mystery at the New Mexico Museum of Space History 
DESCRIPTION:(Alamogordo) — The New Mexico Museum of Space History will transform into a comic-inspired crime scene on Saturday\, May 2\, 2026\, at 6:00 p.m.\, when the Cloudcroft Light Opera Company (CLOC) presents “The CON at COMIC CON\,” an interactive murder mystery experience. Guests are encouraged to wear their favorite costumes\, assemble detective teams\, and dive into a night of clues\, twists\, and superhero flair—complete with plenty of “POW!” energy. \nTickets are $45 per person ($40 for International Space Hall of Fame Foundation members) and include dinner and dessert. At the end of the investigation\, prizes will be awarded to the top three detective teams. \nFor more details\, visit CloudcroftLightOpera.org or NMSpaceMuseum.org.
URL:https://nmspacemuseum.org/event/the-con-at-comic-con-murder-mystery/
LOCATION:New Mexico Museum of Space History\, 3198 State Rd. 2001\, Alamogordo\, NM\, 88310\, United States
CATEGORIES:Nighttime Events,Special Events
ATTACH;FMTTYPE=image/jpeg:https://nmspacemuseum.org/wp-content/uploads/2026/04/FB_Event_CLOC-Murder-Mystery.jpg
ORGANIZER;CN="NM Museum of Space History":MAILTO:msh.info@state.nm.us
END:VEVENT
END:VCALENDAR