BEGIN:VCALENDAR
VERSION:2.0
PRODID:-//New Mexico Museum of Space History - ECPv6.15.14//NONSGML v1.0//EN
CALSCALE:GREGORIAN
METHOD:PUBLISH
X-ORIGINAL-URL:https://nmspacemuseum.org
X-WR-CALDESC:Events for New Mexico Museum of Space History
REFRESH-INTERVAL;VALUE=DURATION:PT1H
X-Robots-Tag:noindex
X-PUBLISHED-TTL:PT1H
BEGIN:VTIMEZONE
TZID:UTC
BEGIN:STANDARD
TZOFFSETFROM:+0000
TZOFFSETTO:+0000
TZNAME:UTC
DTSTART:20250101T000000
END:STANDARD
END:VTIMEZONE
BEGIN:VEVENT
DTSTART;VALUE=DATE:20260114
DTEND;VALUE=DATE:20260116
DTSTAMP:20260424T110829
CREATED:20260113T154034Z
LAST-MODIFIED:20260113T154034Z
UID:23158-1768348800-1768521599@nmspacemuseum.org
SUMMARY:The New Horizons Dome Theater and Planetarium will be closed January 14 and 15 for Staff Training
DESCRIPTION:The New Horizons Dome Theater and Planetarium will be closed January 14 and 15 for staff training. It will reopen January 16\, 2026.
URL:https://nmspacemuseum.org/event/the-new-horizons-dome-theater-and-planetarium-will-be-closed-january-14-and-15-for-staff-training/
LOCATION:New Horizons Dome Theater and Planetarium\, 3198 State Route 2001\, Alamogordo\, NM\, 88310\, United States
CATEGORIES:Theater Showings
ATTACH;FMTTYPE=image/jpeg:https://nmspacemuseum.org/wp-content/uploads/2026/01/FB_Event_Theater-Closed_for-staff-training.jpg
ORGANIZER;CN="NM Museum of Space History":MAILTO:msh.info@state.nm.us
END:VEVENT
END:VCALENDAR