BEGIN:VCALENDAR
VERSION:2.0
PRODID:-//New Mexico Museum of Space History - ECPv6.15.14//NONSGML v1.0//EN
CALSCALE:GREGORIAN
METHOD:PUBLISH
X-WR-CALNAME:New Mexico Museum of Space History
X-ORIGINAL-URL:https://nmspacemuseum.org
X-WR-CALDESC:Events for New Mexico Museum of Space History
REFRESH-INTERVAL;VALUE=DURATION:PT1H
X-Robots-Tag:noindex
X-PUBLISHED-TTL:PT1H
BEGIN:VTIMEZONE
TZID:UTC
BEGIN:STANDARD
TZOFFSETFROM:+0000
TZOFFSETTO:+0000
TZNAME:UTC
DTSTART:20250101T000000
END:STANDARD
END:VTIMEZONE
BEGIN:VEVENT
DTSTART;TZID=UTC:20260409T190000
DTEND;TZID=UTC:20260409T203000
DTSTAMP:20260423T080126
CREATED:20260401T194638Z
LAST-MODIFIED:20260401T195449Z
UID:23731-1775761200-1775766600@nmspacemuseum.org
SUMMARY:New Mexico Museum of Space History’s Astronomy League Monthly Meeting
DESCRIPTION:New Mexico Museum of Space History’s Astronomy League Monthly Meeting\nLocation: Clyde W. Tombaugh Education Center\nDate: Thursday\, April 9\, 2026\nTime: 7:00 PM – 8:30 PM \nNew Mexico Museum of Space History’s Astronomy League Monthly Meetings Welcome Stargazers of All Levels \n(ALAMOGORDO\, NM) – The New Mexico Museum of Space History’s Astronomy League invites everyone with an interest in the night sky to its monthly meeting\, held the second Tuesday of each month from 7:00 to 8:30 PM in the front classroom of the New Horizons Dome Theater and Planetarium. \nThese sessions bring together amateur and experienced astronomers for engaging discussions\, presentations about current celestial events\, hands-on observing tips\, and opportunities for learning and networking. Anyone interested in astronomy is welcome to attend — no experience necessary. \nAttendees are also invited to consider joining the Astronomy League. Membership offers a chance to take part in special observing programs\, earn observing certifications\, meet fellow astronomy enthusiasts regionally and nationally\, and gain access to resources that deepen the stargazing experience. \nAll Astronomy League meetings are free and open to the public. For details about upcoming meetings and other astronomy events\, visit www.nmspacemuseum.org or follow the Museum on Facebook for updates.
URL:https://nmspacemuseum.org/event/new-mexico-museum-of-space-historys-astronomy-league-monthly-meeting-2026-04/
LOCATION:Clyde W. Tombaugh Education Center\, 3198 State Route 2001\, Alamogordo\, NM\, 88310\, United States
CATEGORIES:Monthly Events,Nighttime Events
ATTACH;FMTTYPE=image/jpeg:https://nmspacemuseum.org/wp-content/uploads/2026/02/FB_Event_Astronomy-League-Meeting_2026.jpg
ORGANIZER;CN="NM Museum of Space History":MAILTO:msh.info@state.nm.us
END:VEVENT
BEGIN:VEVENT
DTSTART;TZID=UTC:20260425T110000
DTEND;TZID=UTC:20260425T140000
DTSTAMP:20260423T080126
CREATED:20260422T195655Z
LAST-MODIFIED:20260422T195655Z
UID:23941-1777114800-1777125600@nmspacemuseum.org
SUMMARY:Celebrate Earth Week with Water Rockets at Science Saturday
DESCRIPTION:(Alamogordo\, NM) – This month’s Science Saturday at the New Mexico Museum of Space History invites families to mark Earth Week with hands-on water rocket building and launching. The program takes place on Saturday\, April 25th from 11:00 a.m. to 2:00 p.m. in and around the New Horizons Dome Theater & Planetarium and is designed for students in grades 2–7. \nParticipants are encouraged to bring an empty 2-liter bottle to turn into a water rocket while learning about the first rocket engines and how water and pressure can generate enough force to send their creations skyward. Families should come prepared to get wet\, and all additional basic materials are provided. \nScience Saturday is included with Museum admission. For more information\, call 575-437-2840 or visit www.nmspacemuseum.org. \nAbout the New Mexico Museum of Space History: The New Mexico Museum of Space History in Alamogordo is a division of the New Mexico Department of Cultural Affairs and a Smithsonian Affiliate\, showcasing the significant role New Mexico has played in the development of the U.S. space program and featuring the International Space Hall of Fame and the New Horizons Dome Theater.
URL:https://nmspacemuseum.org/event/celebrate-earth-week-with-water-rockets-at-science-saturday/
LOCATION:Clyde W. Tombaugh Education Center\, 3198 State Route 2001\, Alamogordo\, NM\, 88310\, United States
CATEGORIES:Monthly Events
ATTACH;FMTTYPE=image/jpeg:https://nmspacemuseum.org/wp-content/uploads/2026/02/FB_Event_Science-Saturday_generic1.jpg
ORGANIZER;CN="NM Museum of Space History":MAILTO:msh.info@state.nm.us
END:VEVENT
BEGIN:VEVENT
DTSTART;TZID=UTC:20260501T090000
DTEND;TZID=UTC:20260501T100000
DTSTAMP:20260423T080126
CREATED:20260422T201551Z
LAST-MODIFIED:20260422T201551Z
UID:23946-1777626000-1777629600@nmspacemuseum.org
SUMMARY:From Space to White Sands: U.S. Army Astronaut to Speak at NM Museum of Space History Launch Pad Lecture on May 1st
DESCRIPTION:ALAMOGORDO\, NM – The New Mexico Museum of Space History’s next Launch Pad Lecture will feature distinguished astronaut Col. Andrew R. Morgan\, M.D. (U.S. Army)\, the Senior Commander of White Sands Missile Range. The event is scheduled for Friday\, May 1\, 2026. Morgan will present “A Soldier’s Journey to Space\,” offering insights into his leadership career that spans military medicine\, special operations\, and human spaceflight. \nA 1998 graduate of West Point and a 2002 graduate of the Uniformed Services University of the Health Sciences\, Morgan served aboard the International Space Station from July 2019 to April 2020 on Expeditions 60\, 61\, and 62. During this mission\, he performed seven spacewalks\, a record for a single spaceflight. Before his selection as a NASA astronaut in 2013\, he served as an emergency physician with U.S. Army Special Operations units\, deploying to Iraq\, Afghanistan\, and Africa. His career also includes serving as the Army Senior Astronaut and Detachment Commander at the Johnson Space Center and commanding the U.S. Army Kwajalein Atoll in the Marshall Islands. Since June 2025\, he has served as the Senior Commander of White Sands Missile Range. \nThe Colonel’s military decorations include the Defense Superior Service Medal\, the Legion of Merit\, and the Bronze Star Medal. His NASA honors include the Distinguished Service Medal and the Space Exploration Medal. Morgan and his wife\, Stacey\, have been married for 25 years and have four children. \n“We are honored to host Col. Morgan for May’s Launch Pad Lecture as an exciting start to Astronaut Week\,” said Karen Kinkaid Brady\, Executive Director of the New Mexico Museum of Space History. “His knowledge and commitment to the space program are unsurpassed.” \nThe lecture will take place on Friday\, May 1\, 2026\, at 9:00 a.m. in the New Horizons Dome Theater and Planetarium\, located at 3198 State Route 2001\, Alamogordo\, NM. Admission is free. Guests will enjoy complimentary coffee and donuts\, courtesy of the International Space Hall of Fame Foundation. \nThe Launch Pad Lecture series\, held on the first Friday of each month\, highlights notable figures and topics from space science\, exploration\, and history. The International Space Hall of Fame Foundation’s support makes this program possible.
URL:https://nmspacemuseum.org/event/from-space-to-white-sands-u-s-army-astronaut-to-speak-at-nm-museum-of-space-history-launch-pad-lecture-on-may-1st/
LOCATION:New Horizons Dome Theater and Planetarium\, 3198 State Route 2001\, Alamogordo\, NM\, 88310\, United States
CATEGORIES:Monthly Events
ATTACH;FMTTYPE=image/jpeg:https://nmspacemuseum.org/wp-content/uploads/2026/02/FB_Event_Launchpad-Lecture_2026.jpg
ORGANIZER;CN="NM Museum of Space History":MAILTO:msh.info@state.nm.us
END:VEVENT
END:VCALENDAR