BEGIN:VCALENDAR
VERSION:2.0
PRODID:-//New Mexico Museum of Space History - ECPv6.15.14//NONSGML v1.0//EN
CALSCALE:GREGORIAN
METHOD:PUBLISH
X-WR-CALNAME:New Mexico Museum of Space History
X-ORIGINAL-URL:https://nmspacemuseum.org
X-WR-CALDESC:Events for New Mexico Museum of Space History
REFRESH-INTERVAL;VALUE=DURATION:PT1H
X-Robots-Tag:noindex
X-PUBLISHED-TTL:PT1H
BEGIN:VTIMEZONE
TZID:UTC
BEGIN:STANDARD
TZOFFSETFROM:+0000
TZOFFSETTO:+0000
TZNAME:UTC
DTSTART:20240101T000000
END:STANDARD
END:VTIMEZONE
BEGIN:VEVENT
DTSTART;TZID=UTC:20250905T090000
DTEND;TZID=UTC:20250905T100000
DTSTAMP:20260423T063214
CREATED:20250820T190209Z
LAST-MODIFIED:20250820T191802Z
UID:22800-1757062800-1757066400@nmspacemuseum.org
SUMMARY:Launch Pad Lecture: Trailblazing Women of Space
DESCRIPTION:Museum of Space History’s Astronomy League Monthly Meeting -- CANCELED				\n				\n				\n				\n																														\n				\n				\n				\n									Museum of Space History’s Astronomy League Monthly Meeting — CANCELED DUE TO CONSTRUCTION PROJECT IN THE BUILDINGLocation: Clyde W. Tombaugh Education Center7:00 PM – 8:00 PM   \nMuseum of Space History’s Astronomy League Monthly Meeting – The Astronomy League meeting is held on the second Thursday of each month in the Clyde W. Tombaugh Education Center and is free to attend.  Museum staff and sometimes special guest speakers discuss topics ranging from public observing to off-site adventures.  For more information\, email msh.info@dca.nm.gov or visit our website at www.nmspacemuseum.org
URL:https://nmspacemuseum.org/event/launch-pad-lecture-trailblazing-women-of-space/
LOCATION:New Horizons Dome Theater and Planetarium\, 3198 State Route 2001\, Alamogordo\, NM\, 88310\, United States
CATEGORIES:Monthly Events
ATTACH;FMTTYPE=image/jpeg:https://nmspacemuseum.org/wp-content/uploads/2025/08/ISS-women.jpg
ORGANIZER;CN="NM Museum of Space History":MAILTO:msh.info@state.nm.us
END:VEVENT
BEGIN:VEVENT
DTSTART;TZID=UTC:20251003T090000
DTEND;TZID=UTC:20251003T100000
DTSTAMP:20260423T063215
CREATED:20250919T210824Z
LAST-MODIFIED:20250919T210824Z
UID:22885-1759482000-1759485600@nmspacemuseum.org
SUMMARY:Launch Pad Lecture: 49 & Counting - The NM Museum of Space History's Countdown to 50
DESCRIPTION:Museum of Space History’s Astronomy League Monthly Meeting -- CANCELED				\n				\n				\n				\n																														\n				\n				\n				\n									Museum of Space History’s Astronomy League Monthly Meeting — CANCELED DUE TO CONSTRUCTION PROJECT IN THE BUILDINGLocation: Clyde W. Tombaugh Education Center7:00 PM – 8:00 PM   \nMuseum of Space History’s Astronomy League Monthly Meeting – The Astronomy League meeting is held on the second Thursday of each month in the Clyde W. Tombaugh Education Center and is free to attend.  Museum staff and sometimes special guest speakers discuss topics ranging from public observing to off-site adventures.  For more information\, email msh.info@dca.nm.gov or visit our website at www.nmspacemuseum.org
URL:https://nmspacemuseum.org/event/launch-pad-lecture-49-counting-the-nm-museum-of-space-historys-countdown-to-50/
LOCATION:New Horizons Dome Theater and Planetarium\, 3198 State Route 2001\, Alamogordo\, NM\, 88310\, United States
CATEGORIES:Monthly Events
ATTACH;FMTTYPE=image/jpeg:https://nmspacemuseum.org/wp-content/uploads/2025/09/FB_Event_ISHF-Anniversary_LPL-Post.jpg
ORGANIZER;CN="NM Museum of Space History":MAILTO:msh.info@state.nm.us
END:VEVENT
BEGIN:VEVENT
DTSTART;TZID=UTC:20251025T190000
DTEND;TZID=UTC:20251025T210000
DTSTAMP:20260423T063215
CREATED:20251009T190702Z
LAST-MODIFIED:20251009T191354Z
UID:22920-1761418800-1761426000@nmspacemuseum.org
SUMMARY:Wings & Water - New Mexico Museum of Space History’s Astronomy League Star Party
DESCRIPTION:Museum of Space History’s Astronomy League Monthly Meeting -- CANCELED				\n				\n				\n				\n																														\n				\n				\n				\n									Museum of Space History’s Astronomy League Monthly Meeting — CANCELED DUE TO CONSTRUCTION PROJECT IN THE BUILDINGLocation: Clyde W. Tombaugh Education Center7:00 PM – 8:00 PM   \nMuseum of Space History’s Astronomy League Monthly Meeting – The Astronomy League meeting is held on the second Thursday of each month in the Clyde W. Tombaugh Education Center and is free to attend.  Museum staff and sometimes special guest speakers discuss topics ranging from public observing to off-site adventures.  For more information\, email msh.info@dca.nm.gov or visit our website at www.nmspacemuseum.org
URL:https://nmspacemuseum.org/event/wings-water-new-mexico-museum-of-space-historys-astronomy-league-star-party/
LOCATION:New Mexico Museum of Space History\, 3198 State Rd. 2001\, Alamogordo\, NM\, 88310\, United States
CATEGORIES:Monthly Events,Nighttime Events
ATTACH;FMTTYPE=image/jpeg:https://nmspacemuseum.org/wp-content/uploads/2023/11/FB_Event_Astronomy-League-Star-Party-1.jpg
ORGANIZER;CN="NM Museum of Space History":MAILTO:msh.info@state.nm.us
END:VEVENT
BEGIN:VEVENT
DTSTART;TZID=UTC:20251107T090000
DTEND;TZID=UTC:20251107T100000
DTSTAMP:20260423T063215
CREATED:20251024T150507Z
LAST-MODIFIED:20251118T214807Z
UID:22962-1762506000-1762509600@nmspacemuseum.org
SUMMARY:Launch Pad Lecture: Storms\, Science & Surveyor: The Story of Apollo 12
DESCRIPTION:Museum of Space History’s Astronomy League Monthly Meeting -- CANCELED				\n				\n				\n				\n																														\n				\n				\n				\n									Museum of Space History’s Astronomy League Monthly Meeting — CANCELED DUE TO CONSTRUCTION PROJECT IN THE BUILDINGLocation: Clyde W. Tombaugh Education Center7:00 PM – 8:00 PM   \nMuseum of Space History’s Astronomy League Monthly Meeting – The Astronomy League meeting is held on the second Thursday of each month in the Clyde W. Tombaugh Education Center and is free to attend.  Museum staff and sometimes special guest speakers discuss topics ranging from public observing to off-site adventures.  For more information\, email msh.info@dca.nm.gov or visit our website at www.nmspacemuseum.org
URL:https://nmspacemuseum.org/event/launch-pad-lecture-storms-science-surveyor-the-story-of-apollo-12/
CATEGORIES:Monthly Events
ATTACH;FMTTYPE=image/jpeg:https://nmspacemuseum.org/wp-content/uploads/2025/10/FB_Event_Launchpad-Lecture.jpg
END:VEVENT
BEGIN:VEVENT
DTSTART;TZID=UTC:20260102T090000
DTEND;TZID=UTC:20260102T100000
DTSTAMP:20260423T063215
CREATED:20251224T163614Z
LAST-MODIFIED:20251224T163807Z
UID:23074-1767344400-1767348000@nmspacemuseum.org
SUMMARY:Museum of Space History Launch Pad Lecture: "Apollo\, The Men in the Moon"
DESCRIPTION:Museum of Space History’s Astronomy League Monthly Meeting -- CANCELED				\n				\n				\n				\n																														\n				\n				\n				\n									Museum of Space History’s Astronomy League Monthly Meeting — CANCELED DUE TO CONSTRUCTION PROJECT IN THE BUILDINGLocation: Clyde W. Tombaugh Education Center7:00 PM – 8:00 PM   \nMuseum of Space History’s Astronomy League Monthly Meeting – The Astronomy League meeting is held on the second Thursday of each month in the Clyde W. Tombaugh Education Center and is free to attend.  Museum staff and sometimes special guest speakers discuss topics ranging from public observing to off-site adventures.  For more information\, email msh.info@dca.nm.gov or visit our website at www.nmspacemuseum.org
URL:https://nmspacemuseum.org/event/museum-of-space-history-launch-pad-lecture-january-2026/
LOCATION:New Horizons Dome Theater and Planetarium\, 3198 State Route 2001\, Alamogordo\, NM\, 88310\, United States
CATEGORIES:Monthly Events
ATTACH;FMTTYPE=image/jpeg:https://nmspacemuseum.org/wp-content/uploads/2025/10/FB_Event_Launchpad-Lecture.jpg
ORGANIZER;CN="NM Museum of Space History":MAILTO:msh.info@state.nm.us
END:VEVENT
BEGIN:VEVENT
DTSTART;TZID=UTC:20260108T190000
DTEND;TZID=UTC:20260108T200000
DTSTAMP:20260423T063215
CREATED:20251224T171202Z
LAST-MODIFIED:20251224T171202Z
UID:23082-1767898800-1767902400@nmspacemuseum.org
SUMMARY:Museum of Space History’s Astronomy League Monthly Meeting
DESCRIPTION:Museum of Space History’s Astronomy League Monthly Meeting -- CANCELED				\n				\n				\n				\n																														\n				\n				\n				\n									Museum of Space History’s Astronomy League Monthly Meeting — CANCELED DUE TO CONSTRUCTION PROJECT IN THE BUILDINGLocation: Clyde W. Tombaugh Education Center7:00 PM – 8:00 PM   \nMuseum of Space History’s Astronomy League Monthly Meeting – The Astronomy League meeting is held on the second Thursday of each month in the Clyde W. Tombaugh Education Center and is free to attend.  Museum staff and sometimes special guest speakers discuss topics ranging from public observing to off-site adventures.  For more information\, email msh.info@dca.nm.gov or visit our website at www.nmspacemuseum.org
URL:https://nmspacemuseum.org/event/museum-of-space-historys-astronomy-league-monthly-meeting-january-2026/
LOCATION:Clyde W. Tombaugh Education Center\, 3198 State Route 2001\, Alamogordo\, NM\, 88310\, United States
CATEGORIES:Monthly Events
ATTACH;FMTTYPE=image/jpeg:https://nmspacemuseum.org/wp-content/uploads/2023/10/FB_Event_Astronomy-League-Meeting.jpg
ORGANIZER;CN="NM Museum of Space History":MAILTO:msh.info@state.nm.us
END:VEVENT
BEGIN:VEVENT
DTSTART;TZID=UTC:20260131T110000
DTEND;TZID=UTC:20260131T140000
DTSTAMP:20260423T063215
CREATED:20251224T175619Z
LAST-MODIFIED:20260226T180809Z
UID:23085-1769857200-1769868000@nmspacemuseum.org
SUMMARY:Join us for "HAM Day" at the New Mexico Museum of Space History!
DESCRIPTION:Museum of Space History’s Astronomy League Monthly Meeting -- CANCELED				\n				\n				\n				\n																														\n				\n				\n				\n									Museum of Space History’s Astronomy League Monthly Meeting — CANCELED DUE TO CONSTRUCTION PROJECT IN THE BUILDINGLocation: Clyde W. Tombaugh Education Center7:00 PM – 8:00 PM   \nMuseum of Space History’s Astronomy League Monthly Meeting – The Astronomy League meeting is held on the second Thursday of each month in the Clyde W. Tombaugh Education Center and is free to attend.  Museum staff and sometimes special guest speakers discuss topics ranging from public observing to off-site adventures.  For more information\, email msh.info@dca.nm.gov or visit our website at www.nmspacemuseum.org
URL:https://nmspacemuseum.org/event/go-bananas-for-ham-the-astrochimp-at-free-science-saturday/
LOCATION:New Horizons Dome Theater and Planetarium\, 3198 State Route 2001\, Alamogordo\, NM\, 88310\, United States
CATEGORIES:Monthly Events
ATTACH;FMTTYPE=image/jpeg:https://nmspacemuseum.org/wp-content/uploads/2026/01/FB_Event_HAM-Day_generic3.jpg
ORGANIZER;CN="NM Museum of Space History":MAILTO:msh.info@state.nm.us
END:VEVENT
BEGIN:VEVENT
DTSTART;TZID=UTC:20260228T110000
DTEND;TZID=UTC:20260228T140000
DTSTAMP:20260423T063215
CREATED:20260224T180443Z
LAST-MODIFIED:20260224T203515Z
UID:23465-1772276400-1772287200@nmspacemuseum.org
SUMMARY:Celebrate John Glenn’s historic trip around the Earth with an egg drop at New Mexico Museum of Space History on Feb. 28
DESCRIPTION:Museum of Space History’s Astronomy League Monthly Meeting -- CANCELED				\n				\n				\n				\n																														\n				\n				\n				\n									Museum of Space History’s Astronomy League Monthly Meeting — CANCELED DUE TO CONSTRUCTION PROJECT IN THE BUILDINGLocation: Clyde W. Tombaugh Education Center7:00 PM – 8:00 PM   \nMuseum of Space History’s Astronomy League Monthly Meeting – The Astronomy League meeting is held on the second Thursday of each month in the Clyde W. Tombaugh Education Center and is free to attend.  Museum staff and sometimes special guest speakers discuss topics ranging from public observing to off-site adventures.  For more information\, email msh.info@dca.nm.gov or visit our website at www.nmspacemuseum.org
URL:https://nmspacemuseum.org/event/celebrate-john-glenns-historic-trip-around-the-earth-with-an-egg-drop-at-new-mexico-museum-of-space-history-on-feb-28/
LOCATION:New Mexico Museum of Space History\, 3198 State Rd. 2001\, Alamogordo\, NM\, 88310\, United States
CATEGORIES:Monthly Events
ATTACH;FMTTYPE=image/jpeg:https://nmspacemuseum.org/wp-content/uploads/2026/02/FB_Event_Science-Saturday_generic1.jpg
ORGANIZER;CN="NM Museum of Space History":MAILTO:msh.info@state.nm.us
END:VEVENT
BEGIN:VEVENT
DTSTART;TZID=UTC:20260306T090000
DTEND;TZID=UTC:20260306T220000
DTSTAMP:20260423T063215
CREATED:20260224T212704Z
LAST-MODIFIED:20260310T134507Z
UID:23476-1772787600-1772834400@nmspacemuseum.org
SUMMARY:New Mexico Museum of Space History Launch Pad Lecture: Listen to the Stars: How a Blind Astronomer “Hears” the Cosmos
DESCRIPTION:Museum of Space History’s Astronomy League Monthly Meeting -- CANCELED				\n				\n				\n				\n																														\n				\n				\n				\n									Museum of Space History’s Astronomy League Monthly Meeting — CANCELED DUE TO CONSTRUCTION PROJECT IN THE BUILDINGLocation: Clyde W. Tombaugh Education Center7:00 PM – 8:00 PM   \nMuseum of Space History’s Astronomy League Monthly Meeting – The Astronomy League meeting is held on the second Thursday of each month in the Clyde W. Tombaugh Education Center and is free to attend.  Museum staff and sometimes special guest speakers discuss topics ranging from public observing to off-site adventures.  For more information\, email msh.info@dca.nm.gov or visit our website at www.nmspacemuseum.org
URL:https://nmspacemuseum.org/event/new-mexico-museum-of-space-history-launch-pad-lecture-blind-astronomer-wanda-diaz-merced/
LOCATION:New Horizons Dome Theater and Planetarium\, 3198 State Route 2001\, Alamogordo\, NM\, 88310\, United States
CATEGORIES:Monthly Events
ATTACH;FMTTYPE=image/jpeg:https://nmspacemuseum.org/wp-content/uploads/2026/02/FB_Event_Launchpad-Lecture_2026-1.jpg
ORGANIZER;CN="NM Museum of Space History":MAILTO:msh.info@state.nm.us
END:VEVENT
BEGIN:VEVENT
DTSTART;TZID=UTC:20260312T190000
DTEND;TZID=UTC:20260312T203000
DTSTAMP:20260423T063215
CREATED:20260225T154722Z
LAST-MODIFIED:20260225T154755Z
UID:23496-1773342000-1773347400@nmspacemuseum.org
SUMMARY:New Mexico Museum of Space History’s Astronomy League Monthly Meeting
DESCRIPTION:Museum of Space History’s Astronomy League Monthly Meeting -- CANCELED				\n				\n				\n				\n																														\n				\n				\n				\n									Museum of Space History’s Astronomy League Monthly Meeting — CANCELED DUE TO CONSTRUCTION PROJECT IN THE BUILDINGLocation: Clyde W. Tombaugh Education Center7:00 PM – 8:00 PM   \nMuseum of Space History’s Astronomy League Monthly Meeting – The Astronomy League meeting is held on the second Thursday of each month in the Clyde W. Tombaugh Education Center and is free to attend.  Museum staff and sometimes special guest speakers discuss topics ranging from public observing to off-site adventures.  For more information\, email msh.info@dca.nm.gov or visit our website at www.nmspacemuseum.org
URL:https://nmspacemuseum.org/event/new-mexico-museum-of-space-historys-astronomy-league-monthly-meeting-2026-03/
LOCATION:Clyde W. Tombaugh Education Center\, 3198 State Route 2001\, Alamogordo\, NM\, 88310\, United States
CATEGORIES:Monthly Events,Nighttime Events
ATTACH;FMTTYPE=image/jpeg:https://nmspacemuseum.org/wp-content/uploads/2026/02/FB_Event_Astronomy-League-Meeting_2026.jpg
ORGANIZER;CN="NM Museum of Space History":MAILTO:msh.info@state.nm.us
END:VEVENT
BEGIN:VEVENT
DTSTART;TZID=UTC:20260328T110000
DTEND;TZID=UTC:20260328T140000
DTSTAMP:20260423T063215
CREATED:20260317T201624Z
LAST-MODIFIED:20260318T155848Z
UID:23663-1774695600-1774706400@nmspacemuseum.org
SUMMARY:Lift Off with Aerodynamics and Kites at the New Mexico Museum of Space History's Science Saturday
DESCRIPTION:Museum of Space History’s Astronomy League Monthly Meeting -- CANCELED				\n				\n				\n				\n																														\n				\n				\n				\n									Museum of Space History’s Astronomy League Monthly Meeting — CANCELED DUE TO CONSTRUCTION PROJECT IN THE BUILDINGLocation: Clyde W. Tombaugh Education Center7:00 PM – 8:00 PM   \nMuseum of Space History’s Astronomy League Monthly Meeting – The Astronomy League meeting is held on the second Thursday of each month in the Clyde W. Tombaugh Education Center and is free to attend.  Museum staff and sometimes special guest speakers discuss topics ranging from public observing to off-site adventures.  For more information\, email msh.info@dca.nm.gov or visit our website at www.nmspacemuseum.org
URL:https://nmspacemuseum.org/event/lift-off-with-aerodynamics-and-kites-at-the-new-mexico-museum-of-space-historys-science-saturday/
LOCATION:Clyde W. Tombaugh Education Center\, 3198 State Route 2001\, Alamogordo\, NM\, 88310\, United States
CATEGORIES:Monthly Events
ATTACH;FMTTYPE=image/jpeg:https://nmspacemuseum.org/wp-content/uploads/2026/03/FB_Event_Science-Saturday_generic2.jpg
ORGANIZER;CN="NM Museum of Space History":MAILTO:msh.info@state.nm.us
END:VEVENT
BEGIN:VEVENT
DTSTART;TZID=UTC:20260403T090000
DTEND;TZID=UTC:20260403T100000
DTSTAMP:20260423T063215
CREATED:20260318T195936Z
LAST-MODIFIED:20260320T210813Z
UID:23710-1775206800-1775210400@nmspacemuseum.org
SUMMARY:Eye in space: Launch Pad Lecture looks at the Hubble Space Telescope’s legacy at New Mexico Museum of Space History on April 3
DESCRIPTION:Museum of Space History’s Astronomy League Monthly Meeting -- CANCELED				\n				\n				\n				\n																														\n				\n				\n				\n									Museum of Space History’s Astronomy League Monthly Meeting — CANCELED DUE TO CONSTRUCTION PROJECT IN THE BUILDINGLocation: Clyde W. Tombaugh Education Center7:00 PM – 8:00 PM   \nMuseum of Space History’s Astronomy League Monthly Meeting – The Astronomy League meeting is held on the second Thursday of each month in the Clyde W. Tombaugh Education Center and is free to attend.  Museum staff and sometimes special guest speakers discuss topics ranging from public observing to off-site adventures.  For more information\, email msh.info@dca.nm.gov or visit our website at www.nmspacemuseum.org
URL:https://nmspacemuseum.org/event/new-mexico-museum-of-space-history-launch-pad-lecture-hubble-space-telescope/
LOCATION:New Horizons Dome Theater and Planetarium\, 3198 State Route 2001\, Alamogordo\, NM\, 88310\, United States
CATEGORIES:Monthly Events
ATTACH;FMTTYPE=image/jpeg:https://nmspacemuseum.org/wp-content/uploads/2026/03/FB_Event_LaunchPad-Lecture_2026-Red.jpg
ORGANIZER;CN="NM Museum of Space History":MAILTO:msh.info@state.nm.us
END:VEVENT
BEGIN:VEVENT
DTSTART;TZID=UTC:20260409T190000
DTEND;TZID=UTC:20260409T203000
DTSTAMP:20260423T063215
CREATED:20260401T194638Z
LAST-MODIFIED:20260401T195449Z
UID:23731-1775761200-1775766600@nmspacemuseum.org
SUMMARY:New Mexico Museum of Space History’s Astronomy League Monthly Meeting
DESCRIPTION:Museum of Space History’s Astronomy League Monthly Meeting -- CANCELED				\n				\n				\n				\n																														\n				\n				\n				\n									Museum of Space History’s Astronomy League Monthly Meeting — CANCELED DUE TO CONSTRUCTION PROJECT IN THE BUILDINGLocation: Clyde W. Tombaugh Education Center7:00 PM – 8:00 PM   \nMuseum of Space History’s Astronomy League Monthly Meeting – The Astronomy League meeting is held on the second Thursday of each month in the Clyde W. Tombaugh Education Center and is free to attend.  Museum staff and sometimes special guest speakers discuss topics ranging from public observing to off-site adventures.  For more information\, email msh.info@dca.nm.gov or visit our website at www.nmspacemuseum.org
URL:https://nmspacemuseum.org/event/new-mexico-museum-of-space-historys-astronomy-league-monthly-meeting-2026-04/
LOCATION:Clyde W. Tombaugh Education Center\, 3198 State Route 2001\, Alamogordo\, NM\, 88310\, United States
CATEGORIES:Monthly Events,Nighttime Events
ATTACH;FMTTYPE=image/jpeg:https://nmspacemuseum.org/wp-content/uploads/2026/02/FB_Event_Astronomy-League-Meeting_2026.jpg
ORGANIZER;CN="NM Museum of Space History":MAILTO:msh.info@state.nm.us
END:VEVENT
BEGIN:VEVENT
DTSTART;TZID=UTC:20260425T110000
DTEND;TZID=UTC:20260425T140000
DTSTAMP:20260423T063215
CREATED:20260422T195655Z
LAST-MODIFIED:20260422T195655Z
UID:23941-1777114800-1777125600@nmspacemuseum.org
SUMMARY:Celebrate Earth Week with Water Rockets at Science Saturday
DESCRIPTION:Museum of Space History’s Astronomy League Monthly Meeting -- CANCELED				\n				\n				\n				\n																														\n				\n				\n				\n									Museum of Space History’s Astronomy League Monthly Meeting — CANCELED DUE TO CONSTRUCTION PROJECT IN THE BUILDINGLocation: Clyde W. Tombaugh Education Center7:00 PM – 8:00 PM   \nMuseum of Space History’s Astronomy League Monthly Meeting – The Astronomy League meeting is held on the second Thursday of each month in the Clyde W. Tombaugh Education Center and is free to attend.  Museum staff and sometimes special guest speakers discuss topics ranging from public observing to off-site adventures.  For more information\, email msh.info@dca.nm.gov or visit our website at www.nmspacemuseum.org
URL:https://nmspacemuseum.org/event/celebrate-earth-week-with-water-rockets-at-science-saturday/
LOCATION:Clyde W. Tombaugh Education Center\, 3198 State Route 2001\, Alamogordo\, NM\, 88310\, United States
CATEGORIES:Monthly Events
ATTACH;FMTTYPE=image/jpeg:https://nmspacemuseum.org/wp-content/uploads/2026/02/FB_Event_Science-Saturday_generic1.jpg
ORGANIZER;CN="NM Museum of Space History":MAILTO:msh.info@state.nm.us
END:VEVENT
BEGIN:VEVENT
DTSTART;TZID=UTC:20260501T090000
DTEND;TZID=UTC:20260501T100000
DTSTAMP:20260423T063215
CREATED:20260422T201551Z
LAST-MODIFIED:20260422T201551Z
UID:23946-1777626000-1777629600@nmspacemuseum.org
SUMMARY:From Space to White Sands: U.S. Army Astronaut to Speak at NM Museum of Space History Launch Pad Lecture on May 1st
DESCRIPTION:Museum of Space History’s Astronomy League Monthly Meeting -- CANCELED				\n				\n				\n				\n																														\n				\n				\n				\n									Museum of Space History’s Astronomy League Monthly Meeting — CANCELED DUE TO CONSTRUCTION PROJECT IN THE BUILDINGLocation: Clyde W. Tombaugh Education Center7:00 PM – 8:00 PM   \nMuseum of Space History’s Astronomy League Monthly Meeting – The Astronomy League meeting is held on the second Thursday of each month in the Clyde W. Tombaugh Education Center and is free to attend.  Museum staff and sometimes special guest speakers discuss topics ranging from public observing to off-site adventures.  For more information\, email msh.info@dca.nm.gov or visit our website at www.nmspacemuseum.org
URL:https://nmspacemuseum.org/event/from-space-to-white-sands-u-s-army-astronaut-to-speak-at-nm-museum-of-space-history-launch-pad-lecture-on-may-1st/
LOCATION:New Horizons Dome Theater and Planetarium\, 3198 State Route 2001\, Alamogordo\, NM\, 88310\, United States
CATEGORIES:Monthly Events
ATTACH;FMTTYPE=image/jpeg:https://nmspacemuseum.org/wp-content/uploads/2026/02/FB_Event_Launchpad-Lecture_2026.jpg
ORGANIZER;CN="NM Museum of Space History":MAILTO:msh.info@state.nm.us
END:VEVENT
END:VCALENDAR