BEGIN:VCALENDAR
VERSION:2.0
PRODID:-//New Mexico Museum of Space History - ECPv6.15.14//NONSGML v1.0//EN
CALSCALE:GREGORIAN
METHOD:PUBLISH
X-WR-CALNAME:New Mexico Museum of Space History
X-ORIGINAL-URL:https://nmspacemuseum.org
X-WR-CALDESC:Events for New Mexico Museum of Space History
REFRESH-INTERVAL;VALUE=DURATION:PT1H
X-Robots-Tag:noindex
X-PUBLISHED-TTL:PT1H
BEGIN:VTIMEZONE
TZID:UTC
BEGIN:STANDARD
TZOFFSETFROM:+0000
TZOFFSETTO:+0000
TZNAME:UTC
DTSTART:20240101T000000
END:STANDARD
END:VTIMEZONE
BEGIN:VEVENT
DTSTART;TZID=UTC:20251104T083000
DTEND;TZID=UTC:20251104T113000
DTSTAMP:20260426T013043
CREATED:20251028T213607Z
LAST-MODIFIED:20251103T204618Z
UID:22981-1762245000-1762255800@nmspacemuseum.org
SUMMARY:Clean-up Event at the Museum Grounds
DESCRIPTION:Join us in our mission to protect and preserve New Mexico’s natural beauty and help clean up the grounds of the NM Museum of Space History\, Alamogordo’s gem. \nThrough community-driven trash and litter cleanup efforts\, we’re making a difference across our stunning landscapes. You are invited to volunteer next Tuesday\, on November 4. \nWhere: Meet us at 3198 State Route 2001\, Alamogordo\, NM 88310\nWhen: Tuesday\, 11/4/2025 8:30 AM to 11:30 AM\nWhat to bring: Please bring gloves \nIf you have questions beforehand\, contact Billy Jones at 575-437-2840 ext. 41136\, otherwise\, meet us at the museum!
URL:https://nmspacemuseum.org/event/clean-up-event-at-the-museum-grounds/
LOCATION:NM
CATEGORIES:Special Events
ATTACH;FMTTYPE=image/jpeg:https://nmspacemuseum.org/wp-content/uploads/2025/10/Clean-up-day-breaking-bad-habits-1200-x-628-px-1.jpg
END:VEVENT
END:VCALENDAR