BEGIN:VCALENDAR
VERSION:2.0
PRODID:-//New Mexico Museum of Space History - ECPv6.15.14//NONSGML v1.0//EN
CALSCALE:GREGORIAN
METHOD:PUBLISH
X-ORIGINAL-URL:https://nmspacemuseum.org
X-WR-CALDESC:Events for New Mexico Museum of Space History
REFRESH-INTERVAL;VALUE=DURATION:PT1H
X-Robots-Tag:noindex
X-PUBLISHED-TTL:PT1H
BEGIN:VTIMEZONE
TZID:America/Denver
BEGIN:DAYLIGHT
TZOFFSETFROM:-0700
TZOFFSETTO:-0600
TZNAME:MDT
DTSTART:20240310T090000
END:DAYLIGHT
BEGIN:STANDARD
TZOFFSETFROM:-0600
TZOFFSETTO:-0700
TZNAME:MST
DTSTART:20241103T080000
END:STANDARD
BEGIN:DAYLIGHT
TZOFFSETFROM:-0700
TZOFFSETTO:-0600
TZNAME:MDT
DTSTART:20250309T090000
END:DAYLIGHT
BEGIN:STANDARD
TZOFFSETFROM:-0600
TZOFFSETTO:-0700
TZNAME:MST
DTSTART:20251102T080000
END:STANDARD
BEGIN:DAYLIGHT
TZOFFSETFROM:-0700
TZOFFSETTO:-0600
TZNAME:MDT
DTSTART:20260308T090000
END:DAYLIGHT
BEGIN:STANDARD
TZOFFSETFROM:-0600
TZOFFSETTO:-0700
TZNAME:MST
DTSTART:20261101T080000
END:STANDARD
END:VTIMEZONE
BEGIN:VTIMEZONE
TZID:UTC
BEGIN:STANDARD
TZOFFSETFROM:+0000
TZOFFSETTO:+0000
TZNAME:UTC
DTSTART:20240101T000000
END:STANDARD
END:VTIMEZONE
BEGIN:VEVENT
DTSTART;VALUE=DATE:20250721
DTEND;VALUE=DATE:20250726
DTSTAMP:20260420T131353
CREATED:20250501T151419Z
LAST-MODIFIED:20250501T151517Z
UID:22558-1753056000-1753487999@nmspacemuseum.org
SUMMARY:New Mexico Rocketeer Academy Summer Camp
DESCRIPTION:Hosted by the New Mexico Museum of Space History and the International Space Hall of Fame Foundation \nDesigned for students entering grades 3–8\, the weeklong day camps offer exciting\, hands-on STEM activities like building space suits\, rovers\, and satellites—plus an exclusive field trip to Spaceport America and Virgin Galactic’s Gateway to Space. \nLocation: New Mexico Museum of Space History\, 3198 State Route 2001\, Alamogordo\, NM\nDates: July 7–11\, July 14–18\, July 21–25\nHours: Mon–Thurs 9 AM–4 PM\, Fri 9 AM–12 PM\nCost: $250/week (includes lunch)\nRegister now: www.spacehalloffame.org \nFor more information\, please email: info@spacehalloffame.org \nSpots are limited—register early!
URL:https://nmspacemuseum.org/event/new-mexico-rocketeer-academy-summer-camp-3/
LOCATION:New Mexico Museum of Space History\, 3198 State Rd. 2001\, Alamogordo\, NM\, 88310\, United States
CATEGORIES:Special Events
ATTACH;FMTTYPE=image/jpeg:https://nmspacemuseum.org/wp-content/uploads/2025/05/FB_Event_Summer-Camp-is-Back_01.jpg
END:VEVENT
BEGIN:VEVENT
DTSTART;TZID=UTC:20250725T130000
DTEND;TZID=UTC:20250725T160000
DTSTAMP:20260420T131353
CREATED:20250711T164913Z
LAST-MODIFIED:20250716T224043Z
UID:22691-1753448400-1753459200@nmspacemuseum.org
SUMMARY:New Mexico Museum of Space History Governor’s Commission Meeting
DESCRIPTION:New Mexico Museum of Space History Governor’s Commission Meeting\nDate: Friday\, July 25\, 2025\nTime: 1:00 PM MDT \nLocation: New Mexico Museum of Space History\nClyde Tombaugh Dome Theater & Planetarium – Front Classroom\n3198 State Road 2001\, Alamogordo\, NM 88310 \nThe Mission of the New Mexico Museum of Space History Commission is to provide direction\, advice\, and support to the Director of of the Museum in the maintenance and operation of the Museum and its activities. \nAGENDA \n\n  \n20250725 Commission Meeting Public Notice
URL:https://nmspacemuseum.org/event/new-mexico-museum-of-space-history-governors-commission-meeting-5/
LOCATION:Clyde W. Tombaugh Education Center\, 3198 State Route 2001\, Alamogordo\, NM\, 88310\, United States
CATEGORIES:Quarterly Meeting
ATTACH;FMTTYPE=image/jpeg:https://nmspacemuseum.org/wp-content/uploads/2023/11/FB_Event_Governors-Commission-Mtg.jpg
ORGANIZER;CN="NM Museum of Space History":MAILTO:msh.info@state.nm.us
END:VEVENT
END:VCALENDAR